BEGIN:VCALENDAR
VERSION:2.0
PRODID:-//The Cupola Barn - ECPv6.15.20//NONSGML v1.0//EN
CALSCALE:GREGORIAN
METHOD:PUBLISH
X-WR-CALNAME:The Cupola Barn
X-ORIGINAL-URL:http://cupolabarn.com
X-WR-CALDESC:Events for The Cupola Barn
REFRESH-INTERVAL;VALUE=DURATION:PT1H
X-Robots-Tag:noindex
X-PUBLISHED-TTL:PT1H
BEGIN:VTIMEZONE
TZID:UTC
BEGIN:STANDARD
TZOFFSETFROM:+0000
TZOFFSETTO:+0000
TZNAME:UTC
DTSTART:20230101T000000
END:STANDARD
END:VTIMEZONE
BEGIN:VEVENT
DTSTART;VALUE=DATE:20240518
DTEND;VALUE=DATE:20240519
DTSTAMP:20260423T101634
CREATED:20221130T150218Z
LAST-MODIFIED:20221130T150218Z
UID:33882-1715990400-1716076799@cupolabarn.com
SUMMARY:Condit / Batcher Wedding
DESCRIPTION:
URL:http://cupolabarn.com/event/condit-batcher-wedding/
END:VEVENT
END:VCALENDAR